BEGIN:VCALENDAR
VERSION:2.0
PRODID:-//Chesapeake &amp; Potomac Region of Narcotics Anonymous - ECPv6.15.18//NONSGML v1.0//EN
CALSCALE:GREGORIAN
METHOD:PUBLISH
X-ORIGINAL-URL:https://www.cprna.org
X-WR-CALDESC:Events for Chesapeake &amp; Potomac Region of Narcotics Anonymous
REFRESH-INTERVAL;VALUE=DURATION:PT1H
X-Robots-Tag:noindex
X-PUBLISHED-TTL:PT1H
BEGIN:VTIMEZONE
TZID:America/New_York
BEGIN:DAYLIGHT
TZOFFSETFROM:-0500
TZOFFSETTO:-0400
TZNAME:EDT
DTSTART:20260308T070000
END:DAYLIGHT
BEGIN:STANDARD
TZOFFSETFROM:-0400
TZOFFSETTO:-0500
TZNAME:EST
DTSTART:20261101T060000
END:STANDARD
BEGIN:DAYLIGHT
TZOFFSETFROM:-0500
TZOFFSETTO:-0400
TZNAME:EDT
DTSTART:20270314T070000
END:DAYLIGHT
BEGIN:STANDARD
TZOFFSETFROM:-0400
TZOFFSETTO:-0500
TZNAME:EST
DTSTART:20271107T060000
END:STANDARD
BEGIN:DAYLIGHT
TZOFFSETFROM:-0500
TZOFFSETTO:-0400
TZNAME:EDT
DTSTART:20280312T070000
END:DAYLIGHT
BEGIN:STANDARD
TZOFFSETFROM:-0400
TZOFFSETTO:-0500
TZNAME:EST
DTSTART:20281105T060000
END:STANDARD
BEGIN:DAYLIGHT
TZOFFSETFROM:-0500
TZOFFSETTO:-0400
TZNAME:EDT
DTSTART:20290311T070000
END:DAYLIGHT
BEGIN:STANDARD
TZOFFSETFROM:-0400
TZOFFSETTO:-0500
TZNAME:EST
DTSTART:20291104T060000
END:STANDARD
BEGIN:DAYLIGHT
TZOFFSETFROM:-0500
TZOFFSETTO:-0400
TZNAME:EDT
DTSTART:20300310T070000
END:DAYLIGHT
BEGIN:STANDARD
TZOFFSETFROM:-0400
TZOFFSETTO:-0500
TZNAME:EST
DTSTART:20301103T060000
END:STANDARD
END:VTIMEZONE
BEGIN:VEVENT
DTSTART;TZID=America/New_York:20270329T193000
DTEND;TZID=America/New_York:20270329T210000
DTSTAMP:20260421T134145
CREATED:20250526T064023Z
LAST-MODIFIED:20250915T043808Z
UID:10000246-1806348600-1806354000@www.cprna.org
SUMMARY:EORA ASC Meeting
DESCRIPTION:EORA ASC Meeting\n7:30 Eastern Time (US and Canada)\nEvery month on the Last Monday \nSt. Luke’s Center\n4923 E Capitol St SE\nWashington\, DC 20019 \nNOW MEETING IN PERSON!
URL:https://www.cprna.org/event/eora-asc-meeting-2-2/2027-03-29/
LOCATION:St. Luke’s Catholic Church\, 4925 E Capitol St SE\, Washington\, DC\, 20019\, United States
CATEGORIES:NA Service
GEO:38.8891799;-76.9313684
X-APPLE-STRUCTURED-LOCATION;VALUE=URI;X-ADDRESS=St. Luke’s Catholic Church 4925 E Capitol St SE Washington DC 20019 United States;X-APPLE-RADIUS=500;X-TITLE=4925 E Capitol St SE:geo:-76.9313684,38.8891799
END:VEVENT
BEGIN:VEVENT
DTSTART;TZID=America/New_York:20270426T193000
DTEND;TZID=America/New_York:20270426T210000
DTSTAMP:20260421T134145
CREATED:20250526T064023Z
LAST-MODIFIED:20250915T043808Z
UID:10000247-1808767800-1808773200@www.cprna.org
SUMMARY:EORA ASC Meeting
DESCRIPTION:EORA ASC Meeting\n7:30 Eastern Time (US and Canada)\nEvery month on the Last Monday \nSt. Luke’s Center\n4923 E Capitol St SE\nWashington\, DC 20019 \nNOW MEETING IN PERSON!
URL:https://www.cprna.org/event/eora-asc-meeting-2-2/2027-04-26/
LOCATION:St. Luke’s Catholic Church\, 4925 E Capitol St SE\, Washington\, DC\, 20019\, United States
CATEGORIES:NA Service
GEO:38.8891799;-76.9313684
X-APPLE-STRUCTURED-LOCATION;VALUE=URI;X-ADDRESS=St. Luke’s Catholic Church 4925 E Capitol St SE Washington DC 20019 United States;X-APPLE-RADIUS=500;X-TITLE=4925 E Capitol St SE:geo:-76.9313684,38.8891799
END:VEVENT
BEGIN:VEVENT
DTSTART;TZID=America/New_York:20270531T193000
DTEND;TZID=America/New_York:20270531T210000
DTSTAMP:20260421T134145
CREATED:20250526T064023Z
LAST-MODIFIED:20250915T043808Z
UID:10000248-1811791800-1811797200@www.cprna.org
SUMMARY:EORA ASC Meeting
DESCRIPTION:EORA ASC Meeting\n7:30 Eastern Time (US and Canada)\nEvery month on the Last Monday \nSt. Luke’s Center\n4923 E Capitol St SE\nWashington\, DC 20019 \nNOW MEETING IN PERSON!
URL:https://www.cprna.org/event/eora-asc-meeting-2-2/2027-05-31/
LOCATION:St. Luke’s Catholic Church\, 4925 E Capitol St SE\, Washington\, DC\, 20019\, United States
CATEGORIES:NA Service
GEO:38.8891799;-76.9313684
X-APPLE-STRUCTURED-LOCATION;VALUE=URI;X-ADDRESS=St. Luke’s Catholic Church 4925 E Capitol St SE Washington DC 20019 United States;X-APPLE-RADIUS=500;X-TITLE=4925 E Capitol St SE:geo:-76.9313684,38.8891799
END:VEVENT
BEGIN:VEVENT
DTSTART;TZID=America/New_York:20270628T193000
DTEND;TZID=America/New_York:20270628T210000
DTSTAMP:20260421T134145
CREATED:20250526T064023Z
LAST-MODIFIED:20250915T043808Z
UID:10000249-1814211000-1814216400@www.cprna.org
SUMMARY:EORA ASC Meeting
DESCRIPTION:EORA ASC Meeting\n7:30 Eastern Time (US and Canada)\nEvery month on the Last Monday \nSt. Luke’s Center\n4923 E Capitol St SE\nWashington\, DC 20019 \nNOW MEETING IN PERSON!
URL:https://www.cprna.org/event/eora-asc-meeting-2-2/2027-06-28/
LOCATION:St. Luke’s Catholic Church\, 4925 E Capitol St SE\, Washington\, DC\, 20019\, United States
CATEGORIES:NA Service
GEO:38.8891799;-76.9313684
X-APPLE-STRUCTURED-LOCATION;VALUE=URI;X-ADDRESS=St. Luke’s Catholic Church 4925 E Capitol St SE Washington DC 20019 United States;X-APPLE-RADIUS=500;X-TITLE=4925 E Capitol St SE:geo:-76.9313684,38.8891799
END:VEVENT
BEGIN:VEVENT
DTSTART;TZID=America/New_York:20270726T193000
DTEND;TZID=America/New_York:20270726T210000
DTSTAMP:20260421T134145
CREATED:20250526T064023Z
LAST-MODIFIED:20250915T043808Z
UID:10000250-1816630200-1816635600@www.cprna.org
SUMMARY:EORA ASC Meeting
DESCRIPTION:EORA ASC Meeting\n7:30 Eastern Time (US and Canada)\nEvery month on the Last Monday \nSt. Luke’s Center\n4923 E Capitol St SE\nWashington\, DC 20019 \nNOW MEETING IN PERSON!
URL:https://www.cprna.org/event/eora-asc-meeting-2-2/2027-07-26/
LOCATION:St. Luke’s Catholic Church\, 4925 E Capitol St SE\, Washington\, DC\, 20019\, United States
CATEGORIES:NA Service
GEO:38.8891799;-76.9313684
X-APPLE-STRUCTURED-LOCATION;VALUE=URI;X-ADDRESS=St. Luke’s Catholic Church 4925 E Capitol St SE Washington DC 20019 United States;X-APPLE-RADIUS=500;X-TITLE=4925 E Capitol St SE:geo:-76.9313684,38.8891799
END:VEVENT
BEGIN:VEVENT
DTSTART;TZID=America/New_York:20270830T193000
DTEND;TZID=America/New_York:20270830T210000
DTSTAMP:20260421T134145
CREATED:20250526T064023Z
LAST-MODIFIED:20250915T043808Z
UID:10000251-1819654200-1819659600@www.cprna.org
SUMMARY:EORA ASC Meeting
DESCRIPTION:EORA ASC Meeting\n7:30 Eastern Time (US and Canada)\nEvery month on the Last Monday \nSt. Luke’s Center\n4923 E Capitol St SE\nWashington\, DC 20019 \nNOW MEETING IN PERSON!
URL:https://www.cprna.org/event/eora-asc-meeting-2-2/2027-08-30/
LOCATION:St. Luke’s Catholic Church\, 4925 E Capitol St SE\, Washington\, DC\, 20019\, United States
CATEGORIES:NA Service
GEO:38.8891799;-76.9313684
X-APPLE-STRUCTURED-LOCATION;VALUE=URI;X-ADDRESS=St. Luke’s Catholic Church 4925 E Capitol St SE Washington DC 20019 United States;X-APPLE-RADIUS=500;X-TITLE=4925 E Capitol St SE:geo:-76.9313684,38.8891799
END:VEVENT
BEGIN:VEVENT
DTSTART;TZID=America/New_York:20270927T193000
DTEND;TZID=America/New_York:20270927T210000
DTSTAMP:20260421T134145
CREATED:20250526T064023Z
LAST-MODIFIED:20250915T043808Z
UID:10000252-1822073400-1822078800@www.cprna.org
SUMMARY:EORA ASC Meeting
DESCRIPTION:EORA ASC Meeting\n7:30 Eastern Time (US and Canada)\nEvery month on the Last Monday \nSt. Luke’s Center\n4923 E Capitol St SE\nWashington\, DC 20019 \nNOW MEETING IN PERSON!
URL:https://www.cprna.org/event/eora-asc-meeting-2-2/2027-09-27/
LOCATION:St. Luke’s Catholic Church\, 4925 E Capitol St SE\, Washington\, DC\, 20019\, United States
CATEGORIES:NA Service
GEO:38.8891799;-76.9313684
X-APPLE-STRUCTURED-LOCATION;VALUE=URI;X-ADDRESS=St. Luke’s Catholic Church 4925 E Capitol St SE Washington DC 20019 United States;X-APPLE-RADIUS=500;X-TITLE=4925 E Capitol St SE:geo:-76.9313684,38.8891799
END:VEVENT
BEGIN:VEVENT
DTSTART;TZID=America/New_York:20271025T193000
DTEND;TZID=America/New_York:20271025T210000
DTSTAMP:20260421T134145
CREATED:20250526T064023Z
LAST-MODIFIED:20250915T043808Z
UID:10000253-1824492600-1824498000@www.cprna.org
SUMMARY:EORA ASC Meeting
DESCRIPTION:EORA ASC Meeting\n7:30 Eastern Time (US and Canada)\nEvery month on the Last Monday \nSt. Luke’s Center\n4923 E Capitol St SE\nWashington\, DC 20019 \nNOW MEETING IN PERSON!
URL:https://www.cprna.org/event/eora-asc-meeting-2-2/2027-10-25/
LOCATION:St. Luke’s Catholic Church\, 4925 E Capitol St SE\, Washington\, DC\, 20019\, United States
CATEGORIES:NA Service
GEO:38.8891799;-76.9313684
X-APPLE-STRUCTURED-LOCATION;VALUE=URI;X-ADDRESS=St. Luke’s Catholic Church 4925 E Capitol St SE Washington DC 20019 United States;X-APPLE-RADIUS=500;X-TITLE=4925 E Capitol St SE:geo:-76.9313684,38.8891799
END:VEVENT
BEGIN:VEVENT
DTSTART;TZID=America/New_York:20271129T193000
DTEND;TZID=America/New_York:20271129T210000
DTSTAMP:20260421T134145
CREATED:20250526T064023Z
LAST-MODIFIED:20250915T043808Z
UID:10000254-1827516600-1827522000@www.cprna.org
SUMMARY:EORA ASC Meeting
DESCRIPTION:EORA ASC Meeting\n7:30 Eastern Time (US and Canada)\nEvery month on the Last Monday \nSt. Luke’s Center\n4923 E Capitol St SE\nWashington\, DC 20019 \nNOW MEETING IN PERSON!
URL:https://www.cprna.org/event/eora-asc-meeting-2-2/2027-11-29/
LOCATION:St. Luke’s Catholic Church\, 4925 E Capitol St SE\, Washington\, DC\, 20019\, United States
CATEGORIES:NA Service
GEO:38.8891799;-76.9313684
X-APPLE-STRUCTURED-LOCATION;VALUE=URI;X-ADDRESS=St. Luke’s Catholic Church 4925 E Capitol St SE Washington DC 20019 United States;X-APPLE-RADIUS=500;X-TITLE=4925 E Capitol St SE:geo:-76.9313684,38.8891799
END:VEVENT
BEGIN:VEVENT
DTSTART;TZID=America/New_York:20271227T193000
DTEND;TZID=America/New_York:20271227T210000
DTSTAMP:20260421T134145
CREATED:20250526T064023Z
LAST-MODIFIED:20250915T043808Z
UID:10000255-1829935800-1829941200@www.cprna.org
SUMMARY:EORA ASC Meeting
DESCRIPTION:EORA ASC Meeting\n7:30 Eastern Time (US and Canada)\nEvery month on the Last Monday \nSt. Luke’s Center\n4923 E Capitol St SE\nWashington\, DC 20019 \nNOW MEETING IN PERSON!
URL:https://www.cprna.org/event/eora-asc-meeting-2-2/2027-12-27/
LOCATION:St. Luke’s Catholic Church\, 4925 E Capitol St SE\, Washington\, DC\, 20019\, United States
CATEGORIES:NA Service
GEO:38.8891799;-76.9313684
X-APPLE-STRUCTURED-LOCATION;VALUE=URI;X-ADDRESS=St. Luke’s Catholic Church 4925 E Capitol St SE Washington DC 20019 United States;X-APPLE-RADIUS=500;X-TITLE=4925 E Capitol St SE:geo:-76.9313684,38.8891799
END:VEVENT
BEGIN:VEVENT
DTSTART;TZID=America/New_York:20280131T193000
DTEND;TZID=America/New_York:20280131T210000
DTSTAMP:20260421T134145
CREATED:20250526T064023Z
LAST-MODIFIED:20250915T043808Z
UID:10000256-1832959800-1832965200@www.cprna.org
SUMMARY:EORA ASC Meeting
DESCRIPTION:EORA ASC Meeting\n7:30 Eastern Time (US and Canada)\nEvery month on the Last Monday \nSt. Luke’s Center\n4923 E Capitol St SE\nWashington\, DC 20019 \nNOW MEETING IN PERSON!
URL:https://www.cprna.org/event/eora-asc-meeting-2-2/2028-01-31/
LOCATION:St. Luke’s Catholic Church\, 4925 E Capitol St SE\, Washington\, DC\, 20019\, United States
CATEGORIES:NA Service
GEO:38.8891799;-76.9313684
X-APPLE-STRUCTURED-LOCATION;VALUE=URI;X-ADDRESS=St. Luke’s Catholic Church 4925 E Capitol St SE Washington DC 20019 United States;X-APPLE-RADIUS=500;X-TITLE=4925 E Capitol St SE:geo:-76.9313684,38.8891799
END:VEVENT
BEGIN:VEVENT
DTSTART;TZID=America/New_York:20280228T193000
DTEND;TZID=America/New_York:20280228T210000
DTSTAMP:20260421T134145
CREATED:20250526T064023Z
LAST-MODIFIED:20250915T043808Z
UID:10000257-1835379000-1835384400@www.cprna.org
SUMMARY:EORA ASC Meeting
DESCRIPTION:EORA ASC Meeting\n7:30 Eastern Time (US and Canada)\nEvery month on the Last Monday \nSt. Luke’s Center\n4923 E Capitol St SE\nWashington\, DC 20019 \nNOW MEETING IN PERSON!
URL:https://www.cprna.org/event/eora-asc-meeting-2-2/2028-02-28/
LOCATION:St. Luke’s Catholic Church\, 4925 E Capitol St SE\, Washington\, DC\, 20019\, United States
CATEGORIES:NA Service
GEO:38.8891799;-76.9313684
X-APPLE-STRUCTURED-LOCATION;VALUE=URI;X-ADDRESS=St. Luke’s Catholic Church 4925 E Capitol St SE Washington DC 20019 United States;X-APPLE-RADIUS=500;X-TITLE=4925 E Capitol St SE:geo:-76.9313684,38.8891799
END:VEVENT
BEGIN:VEVENT
DTSTART;TZID=America/New_York:20280327T193000
DTEND;TZID=America/New_York:20280327T210000
DTSTAMP:20260421T134145
CREATED:20250526T064023Z
LAST-MODIFIED:20250915T043808Z
UID:10000258-1837798200-1837803600@www.cprna.org
SUMMARY:EORA ASC Meeting
DESCRIPTION:EORA ASC Meeting\n7:30 Eastern Time (US and Canada)\nEvery month on the Last Monday \nSt. Luke’s Center\n4923 E Capitol St SE\nWashington\, DC 20019 \nNOW MEETING IN PERSON!
URL:https://www.cprna.org/event/eora-asc-meeting-2-2/2028-03-27/
LOCATION:St. Luke’s Catholic Church\, 4925 E Capitol St SE\, Washington\, DC\, 20019\, United States
CATEGORIES:NA Service
GEO:38.8891799;-76.9313684
X-APPLE-STRUCTURED-LOCATION;VALUE=URI;X-ADDRESS=St. Luke’s Catholic Church 4925 E Capitol St SE Washington DC 20019 United States;X-APPLE-RADIUS=500;X-TITLE=4925 E Capitol St SE:geo:-76.9313684,38.8891799
END:VEVENT
BEGIN:VEVENT
DTSTART;TZID=America/New_York:20280424T193000
DTEND;TZID=America/New_York:20280424T210000
DTSTAMP:20260421T134145
CREATED:20250526T064023Z
LAST-MODIFIED:20250915T043808Z
UID:10000259-1840217400-1840222800@www.cprna.org
SUMMARY:EORA ASC Meeting
DESCRIPTION:EORA ASC Meeting\n7:30 Eastern Time (US and Canada)\nEvery month on the Last Monday \nSt. Luke’s Center\n4923 E Capitol St SE\nWashington\, DC 20019 \nNOW MEETING IN PERSON!
URL:https://www.cprna.org/event/eora-asc-meeting-2-2/2028-04-24/
LOCATION:St. Luke’s Catholic Church\, 4925 E Capitol St SE\, Washington\, DC\, 20019\, United States
CATEGORIES:NA Service
GEO:38.8891799;-76.9313684
X-APPLE-STRUCTURED-LOCATION;VALUE=URI;X-ADDRESS=St. Luke’s Catholic Church 4925 E Capitol St SE Washington DC 20019 United States;X-APPLE-RADIUS=500;X-TITLE=4925 E Capitol St SE:geo:-76.9313684,38.8891799
END:VEVENT
BEGIN:VEVENT
DTSTART;TZID=America/New_York:20280529T193000
DTEND;TZID=America/New_York:20280529T210000
DTSTAMP:20260421T134145
CREATED:20250526T064023Z
LAST-MODIFIED:20250915T043808Z
UID:10000260-1843241400-1843246800@www.cprna.org
SUMMARY:EORA ASC Meeting
DESCRIPTION:EORA ASC Meeting\n7:30 Eastern Time (US and Canada)\nEvery month on the Last Monday \nSt. Luke’s Center\n4923 E Capitol St SE\nWashington\, DC 20019 \nNOW MEETING IN PERSON!
URL:https://www.cprna.org/event/eora-asc-meeting-2-2/2028-05-29/
LOCATION:St. Luke’s Catholic Church\, 4925 E Capitol St SE\, Washington\, DC\, 20019\, United States
CATEGORIES:NA Service
GEO:38.8891799;-76.9313684
X-APPLE-STRUCTURED-LOCATION;VALUE=URI;X-ADDRESS=St. Luke’s Catholic Church 4925 E Capitol St SE Washington DC 20019 United States;X-APPLE-RADIUS=500;X-TITLE=4925 E Capitol St SE:geo:-76.9313684,38.8891799
END:VEVENT
BEGIN:VEVENT
DTSTART;TZID=America/New_York:20280626T193000
DTEND;TZID=America/New_York:20280626T210000
DTSTAMP:20260421T134145
CREATED:20250526T064023Z
LAST-MODIFIED:20250915T043808Z
UID:10000261-1845660600-1845666000@www.cprna.org
SUMMARY:EORA ASC Meeting
DESCRIPTION:EORA ASC Meeting\n7:30 Eastern Time (US and Canada)\nEvery month on the Last Monday \nSt. Luke’s Center\n4923 E Capitol St SE\nWashington\, DC 20019 \nNOW MEETING IN PERSON!
URL:https://www.cprna.org/event/eora-asc-meeting-2-2/2028-06-26/
LOCATION:St. Luke’s Catholic Church\, 4925 E Capitol St SE\, Washington\, DC\, 20019\, United States
CATEGORIES:NA Service
GEO:38.8891799;-76.9313684
X-APPLE-STRUCTURED-LOCATION;VALUE=URI;X-ADDRESS=St. Luke’s Catholic Church 4925 E Capitol St SE Washington DC 20019 United States;X-APPLE-RADIUS=500;X-TITLE=4925 E Capitol St SE:geo:-76.9313684,38.8891799
END:VEVENT
BEGIN:VEVENT
DTSTART;TZID=America/New_York:20280731T193000
DTEND;TZID=America/New_York:20280731T210000
DTSTAMP:20260421T134145
CREATED:20250526T064023Z
LAST-MODIFIED:20250915T043808Z
UID:10000262-1848684600-1848690000@www.cprna.org
SUMMARY:EORA ASC Meeting
DESCRIPTION:EORA ASC Meeting\n7:30 Eastern Time (US and Canada)\nEvery month on the Last Monday \nSt. Luke’s Center\n4923 E Capitol St SE\nWashington\, DC 20019 \nNOW MEETING IN PERSON!
URL:https://www.cprna.org/event/eora-asc-meeting-2-2/2028-07-31/
LOCATION:St. Luke’s Catholic Church\, 4925 E Capitol St SE\, Washington\, DC\, 20019\, United States
CATEGORIES:NA Service
GEO:38.8891799;-76.9313684
X-APPLE-STRUCTURED-LOCATION;VALUE=URI;X-ADDRESS=St. Luke’s Catholic Church 4925 E Capitol St SE Washington DC 20019 United States;X-APPLE-RADIUS=500;X-TITLE=4925 E Capitol St SE:geo:-76.9313684,38.8891799
END:VEVENT
BEGIN:VEVENT
DTSTART;TZID=America/New_York:20280828T193000
DTEND;TZID=America/New_York:20280828T210000
DTSTAMP:20260421T134145
CREATED:20250526T064023Z
LAST-MODIFIED:20250915T043808Z
UID:10000263-1851103800-1851109200@www.cprna.org
SUMMARY:EORA ASC Meeting
DESCRIPTION:EORA ASC Meeting\n7:30 Eastern Time (US and Canada)\nEvery month on the Last Monday \nSt. Luke’s Center\n4923 E Capitol St SE\nWashington\, DC 20019 \nNOW MEETING IN PERSON!
URL:https://www.cprna.org/event/eora-asc-meeting-2-2/2028-08-28/
LOCATION:St. Luke’s Catholic Church\, 4925 E Capitol St SE\, Washington\, DC\, 20019\, United States
CATEGORIES:NA Service
GEO:38.8891799;-76.9313684
X-APPLE-STRUCTURED-LOCATION;VALUE=URI;X-ADDRESS=St. Luke’s Catholic Church 4925 E Capitol St SE Washington DC 20019 United States;X-APPLE-RADIUS=500;X-TITLE=4925 E Capitol St SE:geo:-76.9313684,38.8891799
END:VEVENT
BEGIN:VEVENT
DTSTART;TZID=America/New_York:20280925T193000
DTEND;TZID=America/New_York:20280925T210000
DTSTAMP:20260421T134145
CREATED:20250526T064023Z
LAST-MODIFIED:20250915T043808Z
UID:10000264-1853523000-1853528400@www.cprna.org
SUMMARY:EORA ASC Meeting
DESCRIPTION:EORA ASC Meeting\n7:30 Eastern Time (US and Canada)\nEvery month on the Last Monday \nSt. Luke’s Center\n4923 E Capitol St SE\nWashington\, DC 20019 \nNOW MEETING IN PERSON!
URL:https://www.cprna.org/event/eora-asc-meeting-2-2/2028-09-25/
LOCATION:St. Luke’s Catholic Church\, 4925 E Capitol St SE\, Washington\, DC\, 20019\, United States
CATEGORIES:NA Service
GEO:38.8891799;-76.9313684
X-APPLE-STRUCTURED-LOCATION;VALUE=URI;X-ADDRESS=St. Luke’s Catholic Church 4925 E Capitol St SE Washington DC 20019 United States;X-APPLE-RADIUS=500;X-TITLE=4925 E Capitol St SE:geo:-76.9313684,38.8891799
END:VEVENT
BEGIN:VEVENT
DTSTART;TZID=America/New_York:20281030T193000
DTEND;TZID=America/New_York:20281030T210000
DTSTAMP:20260421T134145
CREATED:20250526T064023Z
LAST-MODIFIED:20250915T043808Z
UID:10000265-1856547000-1856552400@www.cprna.org
SUMMARY:EORA ASC Meeting
DESCRIPTION:EORA ASC Meeting\n7:30 Eastern Time (US and Canada)\nEvery month on the Last Monday \nSt. Luke’s Center\n4923 E Capitol St SE\nWashington\, DC 20019 \nNOW MEETING IN PERSON!
URL:https://www.cprna.org/event/eora-asc-meeting-2-2/2028-10-30/
LOCATION:St. Luke’s Catholic Church\, 4925 E Capitol St SE\, Washington\, DC\, 20019\, United States
CATEGORIES:NA Service
GEO:38.8891799;-76.9313684
X-APPLE-STRUCTURED-LOCATION;VALUE=URI;X-ADDRESS=St. Luke’s Catholic Church 4925 E Capitol St SE Washington DC 20019 United States;X-APPLE-RADIUS=500;X-TITLE=4925 E Capitol St SE:geo:-76.9313684,38.8891799
END:VEVENT
BEGIN:VEVENT
DTSTART;TZID=America/New_York:20281127T193000
DTEND;TZID=America/New_York:20281127T210000
DTSTAMP:20260421T134145
CREATED:20250526T064023Z
LAST-MODIFIED:20250915T043808Z
UID:10000266-1858966200-1858971600@www.cprna.org
SUMMARY:EORA ASC Meeting
DESCRIPTION:EORA ASC Meeting\n7:30 Eastern Time (US and Canada)\nEvery month on the Last Monday \nSt. Luke’s Center\n4923 E Capitol St SE\nWashington\, DC 20019 \nNOW MEETING IN PERSON!
URL:https://www.cprna.org/event/eora-asc-meeting-2-2/2028-11-27/
LOCATION:St. Luke’s Catholic Church\, 4925 E Capitol St SE\, Washington\, DC\, 20019\, United States
CATEGORIES:NA Service
GEO:38.8891799;-76.9313684
X-APPLE-STRUCTURED-LOCATION;VALUE=URI;X-ADDRESS=St. Luke’s Catholic Church 4925 E Capitol St SE Washington DC 20019 United States;X-APPLE-RADIUS=500;X-TITLE=4925 E Capitol St SE:geo:-76.9313684,38.8891799
END:VEVENT
BEGIN:VEVENT
DTSTART;TZID=America/New_York:20281225T193000
DTEND;TZID=America/New_York:20281225T210000
DTSTAMP:20260421T134145
CREATED:20250526T064023Z
LAST-MODIFIED:20250915T043808Z
UID:10000267-1861385400-1861390800@www.cprna.org
SUMMARY:EORA ASC Meeting
DESCRIPTION:EORA ASC Meeting\n7:30 Eastern Time (US and Canada)\nEvery month on the Last Monday \nSt. Luke’s Center\n4923 E Capitol St SE\nWashington\, DC 20019 \nNOW MEETING IN PERSON!
URL:https://www.cprna.org/event/eora-asc-meeting-2-2/2028-12-25/
LOCATION:St. Luke’s Catholic Church\, 4925 E Capitol St SE\, Washington\, DC\, 20019\, United States
CATEGORIES:NA Service
GEO:38.8891799;-76.9313684
X-APPLE-STRUCTURED-LOCATION;VALUE=URI;X-ADDRESS=St. Luke’s Catholic Church 4925 E Capitol St SE Washington DC 20019 United States;X-APPLE-RADIUS=500;X-TITLE=4925 E Capitol St SE:geo:-76.9313684,38.8891799
END:VEVENT
BEGIN:VEVENT
DTSTART;TZID=America/New_York:20290129T193000
DTEND;TZID=America/New_York:20290129T210000
DTSTAMP:20260421T134145
CREATED:20250526T064023Z
LAST-MODIFIED:20250915T043808Z
UID:10000268-1864409400-1864414800@www.cprna.org
SUMMARY:EORA ASC Meeting
DESCRIPTION:EORA ASC Meeting\n7:30 Eastern Time (US and Canada)\nEvery month on the Last Monday \nSt. Luke’s Center\n4923 E Capitol St SE\nWashington\, DC 20019 \nNOW MEETING IN PERSON!
URL:https://www.cprna.org/event/eora-asc-meeting-2-2/2029-01-29/
LOCATION:St. Luke’s Catholic Church\, 4925 E Capitol St SE\, Washington\, DC\, 20019\, United States
CATEGORIES:NA Service
GEO:38.8891799;-76.9313684
X-APPLE-STRUCTURED-LOCATION;VALUE=URI;X-ADDRESS=St. Luke’s Catholic Church 4925 E Capitol St SE Washington DC 20019 United States;X-APPLE-RADIUS=500;X-TITLE=4925 E Capitol St SE:geo:-76.9313684,38.8891799
END:VEVENT
BEGIN:VEVENT
DTSTART;TZID=America/New_York:20290226T193000
DTEND;TZID=America/New_York:20290226T210000
DTSTAMP:20260421T134145
CREATED:20250526T064023Z
LAST-MODIFIED:20250915T043808Z
UID:10000269-1866828600-1866834000@www.cprna.org
SUMMARY:EORA ASC Meeting
DESCRIPTION:EORA ASC Meeting\n7:30 Eastern Time (US and Canada)\nEvery month on the Last Monday \nSt. Luke’s Center\n4923 E Capitol St SE\nWashington\, DC 20019 \nNOW MEETING IN PERSON!
URL:https://www.cprna.org/event/eora-asc-meeting-2-2/2029-02-26/
LOCATION:St. Luke’s Catholic Church\, 4925 E Capitol St SE\, Washington\, DC\, 20019\, United States
CATEGORIES:NA Service
GEO:38.8891799;-76.9313684
X-APPLE-STRUCTURED-LOCATION;VALUE=URI;X-ADDRESS=St. Luke’s Catholic Church 4925 E Capitol St SE Washington DC 20019 United States;X-APPLE-RADIUS=500;X-TITLE=4925 E Capitol St SE:geo:-76.9313684,38.8891799
END:VEVENT
BEGIN:VEVENT
DTSTART;TZID=America/New_York:20290326T193000
DTEND;TZID=America/New_York:20290326T210000
DTSTAMP:20260421T134145
CREATED:20250526T064023Z
LAST-MODIFIED:20250915T043808Z
UID:10000270-1869247800-1869253200@www.cprna.org
SUMMARY:EORA ASC Meeting
DESCRIPTION:EORA ASC Meeting\n7:30 Eastern Time (US and Canada)\nEvery month on the Last Monday \nSt. Luke’s Center\n4923 E Capitol St SE\nWashington\, DC 20019 \nNOW MEETING IN PERSON!
URL:https://www.cprna.org/event/eora-asc-meeting-2-2/2029-03-26/
LOCATION:St. Luke’s Catholic Church\, 4925 E Capitol St SE\, Washington\, DC\, 20019\, United States
CATEGORIES:NA Service
GEO:38.8891799;-76.9313684
X-APPLE-STRUCTURED-LOCATION;VALUE=URI;X-ADDRESS=St. Luke’s Catholic Church 4925 E Capitol St SE Washington DC 20019 United States;X-APPLE-RADIUS=500;X-TITLE=4925 E Capitol St SE:geo:-76.9313684,38.8891799
END:VEVENT
BEGIN:VEVENT
DTSTART;TZID=America/New_York:20290430T193000
DTEND;TZID=America/New_York:20290430T210000
DTSTAMP:20260421T134145
CREATED:20250526T064023Z
LAST-MODIFIED:20250915T043808Z
UID:10000271-1872271800-1872277200@www.cprna.org
SUMMARY:EORA ASC Meeting
DESCRIPTION:EORA ASC Meeting\n7:30 Eastern Time (US and Canada)\nEvery month on the Last Monday \nSt. Luke’s Center\n4923 E Capitol St SE\nWashington\, DC 20019 \nNOW MEETING IN PERSON!
URL:https://www.cprna.org/event/eora-asc-meeting-2-2/2029-04-30/
LOCATION:St. Luke’s Catholic Church\, 4925 E Capitol St SE\, Washington\, DC\, 20019\, United States
CATEGORIES:NA Service
GEO:38.8891799;-76.9313684
X-APPLE-STRUCTURED-LOCATION;VALUE=URI;X-ADDRESS=St. Luke’s Catholic Church 4925 E Capitol St SE Washington DC 20019 United States;X-APPLE-RADIUS=500;X-TITLE=4925 E Capitol St SE:geo:-76.9313684,38.8891799
END:VEVENT
BEGIN:VEVENT
DTSTART;TZID=America/New_York:20290528T193000
DTEND;TZID=America/New_York:20290528T210000
DTSTAMP:20260421T134145
CREATED:20250526T064023Z
LAST-MODIFIED:20250915T043808Z
UID:10000272-1874691000-1874696400@www.cprna.org
SUMMARY:EORA ASC Meeting
DESCRIPTION:EORA ASC Meeting\n7:30 Eastern Time (US and Canada)\nEvery month on the Last Monday \nSt. Luke’s Center\n4923 E Capitol St SE\nWashington\, DC 20019 \nNOW MEETING IN PERSON!
URL:https://www.cprna.org/event/eora-asc-meeting-2-2/2029-05-28/
LOCATION:St. Luke’s Catholic Church\, 4925 E Capitol St SE\, Washington\, DC\, 20019\, United States
CATEGORIES:NA Service
GEO:38.8891799;-76.9313684
X-APPLE-STRUCTURED-LOCATION;VALUE=URI;X-ADDRESS=St. Luke’s Catholic Church 4925 E Capitol St SE Washington DC 20019 United States;X-APPLE-RADIUS=500;X-TITLE=4925 E Capitol St SE:geo:-76.9313684,38.8891799
END:VEVENT
BEGIN:VEVENT
DTSTART;TZID=America/New_York:20290625T193000
DTEND;TZID=America/New_York:20290625T210000
DTSTAMP:20260421T134145
CREATED:20250526T064023Z
LAST-MODIFIED:20250915T043808Z
UID:10000273-1877110200-1877115600@www.cprna.org
SUMMARY:EORA ASC Meeting
DESCRIPTION:EORA ASC Meeting\n7:30 Eastern Time (US and Canada)\nEvery month on the Last Monday \nSt. Luke’s Center\n4923 E Capitol St SE\nWashington\, DC 20019 \nNOW MEETING IN PERSON!
URL:https://www.cprna.org/event/eora-asc-meeting-2-2/2029-06-25/
LOCATION:St. Luke’s Catholic Church\, 4925 E Capitol St SE\, Washington\, DC\, 20019\, United States
CATEGORIES:NA Service
GEO:38.8891799;-76.9313684
X-APPLE-STRUCTURED-LOCATION;VALUE=URI;X-ADDRESS=St. Luke’s Catholic Church 4925 E Capitol St SE Washington DC 20019 United States;X-APPLE-RADIUS=500;X-TITLE=4925 E Capitol St SE:geo:-76.9313684,38.8891799
END:VEVENT
BEGIN:VEVENT
DTSTART;TZID=America/New_York:20290730T193000
DTEND;TZID=America/New_York:20290730T210000
DTSTAMP:20260421T134145
CREATED:20250526T064023Z
LAST-MODIFIED:20250915T043808Z
UID:10000274-1880134200-1880139600@www.cprna.org
SUMMARY:EORA ASC Meeting
DESCRIPTION:EORA ASC Meeting\n7:30 Eastern Time (US and Canada)\nEvery month on the Last Monday \nSt. Luke’s Center\n4923 E Capitol St SE\nWashington\, DC 20019 \nNOW MEETING IN PERSON!
URL:https://www.cprna.org/event/eora-asc-meeting-2-2/2029-07-30/
LOCATION:St. Luke’s Catholic Church\, 4925 E Capitol St SE\, Washington\, DC\, 20019\, United States
CATEGORIES:NA Service
GEO:38.8891799;-76.9313684
X-APPLE-STRUCTURED-LOCATION;VALUE=URI;X-ADDRESS=St. Luke’s Catholic Church 4925 E Capitol St SE Washington DC 20019 United States;X-APPLE-RADIUS=500;X-TITLE=4925 E Capitol St SE:geo:-76.9313684,38.8891799
END:VEVENT
BEGIN:VEVENT
DTSTART;TZID=America/New_York:20290827T193000
DTEND;TZID=America/New_York:20290827T210000
DTSTAMP:20260421T134145
CREATED:20250526T064023Z
LAST-MODIFIED:20250915T043808Z
UID:10000275-1882553400-1882558800@www.cprna.org
SUMMARY:EORA ASC Meeting
DESCRIPTION:EORA ASC Meeting\n7:30 Eastern Time (US and Canada)\nEvery month on the Last Monday \nSt. Luke’s Center\n4923 E Capitol St SE\nWashington\, DC 20019 \nNOW MEETING IN PERSON!
URL:https://www.cprna.org/event/eora-asc-meeting-2-2/2029-08-27/
LOCATION:St. Luke’s Catholic Church\, 4925 E Capitol St SE\, Washington\, DC\, 20019\, United States
CATEGORIES:NA Service
GEO:38.8891799;-76.9313684
X-APPLE-STRUCTURED-LOCATION;VALUE=URI;X-ADDRESS=St. Luke’s Catholic Church 4925 E Capitol St SE Washington DC 20019 United States;X-APPLE-RADIUS=500;X-TITLE=4925 E Capitol St SE:geo:-76.9313684,38.8891799
END:VEVENT
END:VCALENDAR