BEGIN:VCALENDAR
VERSION:2.0
PRODID:-//Chesapeake &amp; Potomac Region of Narcotics Anonymous - ECPv6.15.18//NONSGML v1.0//EN
CALSCALE:GREGORIAN
METHOD:PUBLISH
X-ORIGINAL-URL:https://www.cprna.org
X-WR-CALDESC:Events for Chesapeake &amp; Potomac Region of Narcotics Anonymous
REFRESH-INTERVAL;VALUE=DURATION:PT1H
X-Robots-Tag:noindex
X-PUBLISHED-TTL:PT1H
BEGIN:VTIMEZONE
TZID:America/New_York
BEGIN:DAYLIGHT
TZOFFSETFROM:-0500
TZOFFSETTO:-0400
TZNAME:EDT
DTSTART:20270314T070000
END:DAYLIGHT
BEGIN:STANDARD
TZOFFSETFROM:-0400
TZOFFSETTO:-0500
TZNAME:EST
DTSTART:20271107T060000
END:STANDARD
BEGIN:DAYLIGHT
TZOFFSETFROM:-0500
TZOFFSETTO:-0400
TZNAME:EDT
DTSTART:20280312T070000
END:DAYLIGHT
BEGIN:STANDARD
TZOFFSETFROM:-0400
TZOFFSETTO:-0500
TZNAME:EST
DTSTART:20281105T060000
END:STANDARD
BEGIN:DAYLIGHT
TZOFFSETFROM:-0500
TZOFFSETTO:-0400
TZNAME:EDT
DTSTART:20290311T070000
END:DAYLIGHT
BEGIN:STANDARD
TZOFFSETFROM:-0400
TZOFFSETTO:-0500
TZNAME:EST
DTSTART:20291104T060000
END:STANDARD
BEGIN:DAYLIGHT
TZOFFSETFROM:-0500
TZOFFSETTO:-0400
TZNAME:EDT
DTSTART:20300310T070000
END:DAYLIGHT
BEGIN:STANDARD
TZOFFSETFROM:-0400
TZOFFSETTO:-0500
TZNAME:EST
DTSTART:20301103T060000
END:STANDARD
BEGIN:DAYLIGHT
TZOFFSETFROM:-0500
TZOFFSETTO:-0400
TZNAME:EDT
DTSTART:20310309T070000
END:DAYLIGHT
BEGIN:STANDARD
TZOFFSETFROM:-0400
TZOFFSETTO:-0500
TZNAME:EST
DTSTART:20311102T060000
END:STANDARD
END:VTIMEZONE
BEGIN:VEVENT
DTSTART;TZID=America/New_York:20280506T180000
DTEND;TZID=America/New_York:20280506T200000
DTSTAMP:20260421T193223
CREATED:20241228T005732Z
LAST-MODIFIED:20250426T003922Z
UID:10001443-1841248800-1841256000@www.cprna.org
SUMMARY:South Potomac Area Service Committee
DESCRIPTION:The South Potomac Area Service Committee meets the first Saturday of each month at 6:00 PM: \nDavies Unitarian Universalist Church\n7400 Temple Hills Road\nCamp Springs\, MD 20748
URL:https://www.cprna.org/event/south-potomac-area-service-committee/2028-05-06/
LOCATION:Davies Unitarian Universalist Church\, 7400 Temple Hills Road\, Camp Springs\, MD\, 20748
CATEGORIES:NA Service
GEO:38.7880107;-76.9252019
X-APPLE-STRUCTURED-LOCATION;VALUE=URI;X-ADDRESS=Davies Unitarian Universalist Church 7400 Temple Hills Road Camp Springs MD 20748;X-APPLE-RADIUS=500;X-TITLE=7400 Temple Hills Road:geo:-76.9252019,38.7880107
END:VEVENT
BEGIN:VEVENT
DTSTART;TZID=America/New_York:20280603T180000
DTEND;TZID=America/New_York:20280603T200000
DTSTAMP:20260421T193223
CREATED:20241228T005732Z
LAST-MODIFIED:20250426T003922Z
UID:10001444-1843668000-1843675200@www.cprna.org
SUMMARY:South Potomac Area Service Committee
DESCRIPTION:The South Potomac Area Service Committee meets the first Saturday of each month at 6:00 PM: \nDavies Unitarian Universalist Church\n7400 Temple Hills Road\nCamp Springs\, MD 20748
URL:https://www.cprna.org/event/south-potomac-area-service-committee/2028-06-03/
LOCATION:Davies Unitarian Universalist Church\, 7400 Temple Hills Road\, Camp Springs\, MD\, 20748
CATEGORIES:NA Service
GEO:38.7880107;-76.9252019
X-APPLE-STRUCTURED-LOCATION;VALUE=URI;X-ADDRESS=Davies Unitarian Universalist Church 7400 Temple Hills Road Camp Springs MD 20748;X-APPLE-RADIUS=500;X-TITLE=7400 Temple Hills Road:geo:-76.9252019,38.7880107
END:VEVENT
BEGIN:VEVENT
DTSTART;TZID=America/New_York:20280701T180000
DTEND;TZID=America/New_York:20280701T200000
DTSTAMP:20260421T193223
CREATED:20241228T005732Z
LAST-MODIFIED:20250426T003922Z
UID:10001445-1846087200-1846094400@www.cprna.org
SUMMARY:South Potomac Area Service Committee
DESCRIPTION:The South Potomac Area Service Committee meets the first Saturday of each month at 6:00 PM: \nDavies Unitarian Universalist Church\n7400 Temple Hills Road\nCamp Springs\, MD 20748
URL:https://www.cprna.org/event/south-potomac-area-service-committee/2028-07-01/
LOCATION:Davies Unitarian Universalist Church\, 7400 Temple Hills Road\, Camp Springs\, MD\, 20748
CATEGORIES:NA Service
GEO:38.7880107;-76.9252019
X-APPLE-STRUCTURED-LOCATION;VALUE=URI;X-ADDRESS=Davies Unitarian Universalist Church 7400 Temple Hills Road Camp Springs MD 20748;X-APPLE-RADIUS=500;X-TITLE=7400 Temple Hills Road:geo:-76.9252019,38.7880107
END:VEVENT
BEGIN:VEVENT
DTSTART;TZID=America/New_York:20280805T180000
DTEND;TZID=America/New_York:20280805T200000
DTSTAMP:20260421T193223
CREATED:20241228T005732Z
LAST-MODIFIED:20250426T003922Z
UID:10001446-1849111200-1849118400@www.cprna.org
SUMMARY:South Potomac Area Service Committee
DESCRIPTION:The South Potomac Area Service Committee meets the first Saturday of each month at 6:00 PM: \nDavies Unitarian Universalist Church\n7400 Temple Hills Road\nCamp Springs\, MD 20748
URL:https://www.cprna.org/event/south-potomac-area-service-committee/2028-08-05/
LOCATION:Davies Unitarian Universalist Church\, 7400 Temple Hills Road\, Camp Springs\, MD\, 20748
CATEGORIES:NA Service
GEO:38.7880107;-76.9252019
X-APPLE-STRUCTURED-LOCATION;VALUE=URI;X-ADDRESS=Davies Unitarian Universalist Church 7400 Temple Hills Road Camp Springs MD 20748;X-APPLE-RADIUS=500;X-TITLE=7400 Temple Hills Road:geo:-76.9252019,38.7880107
END:VEVENT
BEGIN:VEVENT
DTSTART;TZID=America/New_York:20280902T180000
DTEND;TZID=America/New_York:20280902T200000
DTSTAMP:20260421T193223
CREATED:20241228T005732Z
LAST-MODIFIED:20250426T003922Z
UID:10001447-1851530400-1851537600@www.cprna.org
SUMMARY:South Potomac Area Service Committee
DESCRIPTION:The South Potomac Area Service Committee meets the first Saturday of each month at 6:00 PM: \nDavies Unitarian Universalist Church\n7400 Temple Hills Road\nCamp Springs\, MD 20748
URL:https://www.cprna.org/event/south-potomac-area-service-committee/2028-09-02/
LOCATION:Davies Unitarian Universalist Church\, 7400 Temple Hills Road\, Camp Springs\, MD\, 20748
CATEGORIES:NA Service
GEO:38.7880107;-76.9252019
X-APPLE-STRUCTURED-LOCATION;VALUE=URI;X-ADDRESS=Davies Unitarian Universalist Church 7400 Temple Hills Road Camp Springs MD 20748;X-APPLE-RADIUS=500;X-TITLE=7400 Temple Hills Road:geo:-76.9252019,38.7880107
END:VEVENT
BEGIN:VEVENT
DTSTART;TZID=America/New_York:20281007T180000
DTEND;TZID=America/New_York:20281007T200000
DTSTAMP:20260421T193223
CREATED:20241228T005732Z
LAST-MODIFIED:20250426T003922Z
UID:10001448-1854554400-1854561600@www.cprna.org
SUMMARY:South Potomac Area Service Committee
DESCRIPTION:The South Potomac Area Service Committee meets the first Saturday of each month at 6:00 PM: \nDavies Unitarian Universalist Church\n7400 Temple Hills Road\nCamp Springs\, MD 20748
URL:https://www.cprna.org/event/south-potomac-area-service-committee/2028-10-07/
LOCATION:Davies Unitarian Universalist Church\, 7400 Temple Hills Road\, Camp Springs\, MD\, 20748
CATEGORIES:NA Service
GEO:38.7880107;-76.9252019
X-APPLE-STRUCTURED-LOCATION;VALUE=URI;X-ADDRESS=Davies Unitarian Universalist Church 7400 Temple Hills Road Camp Springs MD 20748;X-APPLE-RADIUS=500;X-TITLE=7400 Temple Hills Road:geo:-76.9252019,38.7880107
END:VEVENT
BEGIN:VEVENT
DTSTART;TZID=America/New_York:20281104T180000
DTEND;TZID=America/New_York:20281104T200000
DTSTAMP:20260421T193223
CREATED:20241228T005732Z
LAST-MODIFIED:20250426T003922Z
UID:10001449-1856973600-1856980800@www.cprna.org
SUMMARY:South Potomac Area Service Committee
DESCRIPTION:The South Potomac Area Service Committee meets the first Saturday of each month at 6:00 PM: \nDavies Unitarian Universalist Church\n7400 Temple Hills Road\nCamp Springs\, MD 20748
URL:https://www.cprna.org/event/south-potomac-area-service-committee/2028-11-04/
LOCATION:Davies Unitarian Universalist Church\, 7400 Temple Hills Road\, Camp Springs\, MD\, 20748
CATEGORIES:NA Service
GEO:38.7880107;-76.9252019
X-APPLE-STRUCTURED-LOCATION;VALUE=URI;X-ADDRESS=Davies Unitarian Universalist Church 7400 Temple Hills Road Camp Springs MD 20748;X-APPLE-RADIUS=500;X-TITLE=7400 Temple Hills Road:geo:-76.9252019,38.7880107
END:VEVENT
BEGIN:VEVENT
DTSTART;TZID=America/New_York:20281202T180000
DTEND;TZID=America/New_York:20281202T200000
DTSTAMP:20260421T193223
CREATED:20241228T005732Z
LAST-MODIFIED:20250426T003922Z
UID:10001450-1859392800-1859400000@www.cprna.org
SUMMARY:South Potomac Area Service Committee
DESCRIPTION:The South Potomac Area Service Committee meets the first Saturday of each month at 6:00 PM: \nDavies Unitarian Universalist Church\n7400 Temple Hills Road\nCamp Springs\, MD 20748
URL:https://www.cprna.org/event/south-potomac-area-service-committee/2028-12-02/
LOCATION:Davies Unitarian Universalist Church\, 7400 Temple Hills Road\, Camp Springs\, MD\, 20748
CATEGORIES:NA Service
GEO:38.7880107;-76.9252019
X-APPLE-STRUCTURED-LOCATION;VALUE=URI;X-ADDRESS=Davies Unitarian Universalist Church 7400 Temple Hills Road Camp Springs MD 20748;X-APPLE-RADIUS=500;X-TITLE=7400 Temple Hills Road:geo:-76.9252019,38.7880107
END:VEVENT
BEGIN:VEVENT
DTSTART;TZID=America/New_York:20290106T180000
DTEND;TZID=America/New_York:20290106T200000
DTSTAMP:20260421T193223
CREATED:20241228T005732Z
LAST-MODIFIED:20250426T003922Z
UID:10001451-1862416800-1862424000@www.cprna.org
SUMMARY:South Potomac Area Service Committee
DESCRIPTION:The South Potomac Area Service Committee meets the first Saturday of each month at 6:00 PM: \nDavies Unitarian Universalist Church\n7400 Temple Hills Road\nCamp Springs\, MD 20748
URL:https://www.cprna.org/event/south-potomac-area-service-committee/2029-01-06/
LOCATION:Davies Unitarian Universalist Church\, 7400 Temple Hills Road\, Camp Springs\, MD\, 20748
CATEGORIES:NA Service
GEO:38.7880107;-76.9252019
X-APPLE-STRUCTURED-LOCATION;VALUE=URI;X-ADDRESS=Davies Unitarian Universalist Church 7400 Temple Hills Road Camp Springs MD 20748;X-APPLE-RADIUS=500;X-TITLE=7400 Temple Hills Road:geo:-76.9252019,38.7880107
END:VEVENT
BEGIN:VEVENT
DTSTART;TZID=America/New_York:20290203T180000
DTEND;TZID=America/New_York:20290203T200000
DTSTAMP:20260421T193223
CREATED:20241228T005732Z
LAST-MODIFIED:20250426T003922Z
UID:10001452-1864836000-1864843200@www.cprna.org
SUMMARY:South Potomac Area Service Committee
DESCRIPTION:The South Potomac Area Service Committee meets the first Saturday of each month at 6:00 PM: \nDavies Unitarian Universalist Church\n7400 Temple Hills Road\nCamp Springs\, MD 20748
URL:https://www.cprna.org/event/south-potomac-area-service-committee/2029-02-03/
LOCATION:Davies Unitarian Universalist Church\, 7400 Temple Hills Road\, Camp Springs\, MD\, 20748
CATEGORIES:NA Service
GEO:38.7880107;-76.9252019
X-APPLE-STRUCTURED-LOCATION;VALUE=URI;X-ADDRESS=Davies Unitarian Universalist Church 7400 Temple Hills Road Camp Springs MD 20748;X-APPLE-RADIUS=500;X-TITLE=7400 Temple Hills Road:geo:-76.9252019,38.7880107
END:VEVENT
BEGIN:VEVENT
DTSTART;TZID=America/New_York:20290303T180000
DTEND;TZID=America/New_York:20290303T200000
DTSTAMP:20260421T193223
CREATED:20241228T005732Z
LAST-MODIFIED:20250426T003922Z
UID:10001453-1867255200-1867262400@www.cprna.org
SUMMARY:South Potomac Area Service Committee
DESCRIPTION:The South Potomac Area Service Committee meets the first Saturday of each month at 6:00 PM: \nDavies Unitarian Universalist Church\n7400 Temple Hills Road\nCamp Springs\, MD 20748
URL:https://www.cprna.org/event/south-potomac-area-service-committee/2029-03-03/
LOCATION:Davies Unitarian Universalist Church\, 7400 Temple Hills Road\, Camp Springs\, MD\, 20748
CATEGORIES:NA Service
GEO:38.7880107;-76.9252019
X-APPLE-STRUCTURED-LOCATION;VALUE=URI;X-ADDRESS=Davies Unitarian Universalist Church 7400 Temple Hills Road Camp Springs MD 20748;X-APPLE-RADIUS=500;X-TITLE=7400 Temple Hills Road:geo:-76.9252019,38.7880107
END:VEVENT
BEGIN:VEVENT
DTSTART;TZID=America/New_York:20290407T180000
DTEND;TZID=America/New_York:20290407T200000
DTSTAMP:20260421T193223
CREATED:20241228T005732Z
LAST-MODIFIED:20250426T003922Z
UID:10001454-1870279200-1870286400@www.cprna.org
SUMMARY:South Potomac Area Service Committee
DESCRIPTION:The South Potomac Area Service Committee meets the first Saturday of each month at 6:00 PM: \nDavies Unitarian Universalist Church\n7400 Temple Hills Road\nCamp Springs\, MD 20748
URL:https://www.cprna.org/event/south-potomac-area-service-committee/2029-04-07/
LOCATION:Davies Unitarian Universalist Church\, 7400 Temple Hills Road\, Camp Springs\, MD\, 20748
CATEGORIES:NA Service
GEO:38.7880107;-76.9252019
X-APPLE-STRUCTURED-LOCATION;VALUE=URI;X-ADDRESS=Davies Unitarian Universalist Church 7400 Temple Hills Road Camp Springs MD 20748;X-APPLE-RADIUS=500;X-TITLE=7400 Temple Hills Road:geo:-76.9252019,38.7880107
END:VEVENT
BEGIN:VEVENT
DTSTART;TZID=America/New_York:20290505T180000
DTEND;TZID=America/New_York:20290505T200000
DTSTAMP:20260421T193223
CREATED:20241228T005732Z
LAST-MODIFIED:20250426T003922Z
UID:10001455-1872698400-1872705600@www.cprna.org
SUMMARY:South Potomac Area Service Committee
DESCRIPTION:The South Potomac Area Service Committee meets the first Saturday of each month at 6:00 PM: \nDavies Unitarian Universalist Church\n7400 Temple Hills Road\nCamp Springs\, MD 20748
URL:https://www.cprna.org/event/south-potomac-area-service-committee/2029-05-05/
LOCATION:Davies Unitarian Universalist Church\, 7400 Temple Hills Road\, Camp Springs\, MD\, 20748
CATEGORIES:NA Service
GEO:38.7880107;-76.9252019
X-APPLE-STRUCTURED-LOCATION;VALUE=URI;X-ADDRESS=Davies Unitarian Universalist Church 7400 Temple Hills Road Camp Springs MD 20748;X-APPLE-RADIUS=500;X-TITLE=7400 Temple Hills Road:geo:-76.9252019,38.7880107
END:VEVENT
BEGIN:VEVENT
DTSTART;TZID=America/New_York:20290602T180000
DTEND;TZID=America/New_York:20290602T200000
DTSTAMP:20260421T193223
CREATED:20241228T005732Z
LAST-MODIFIED:20250426T003922Z
UID:10001456-1875117600-1875124800@www.cprna.org
SUMMARY:South Potomac Area Service Committee
DESCRIPTION:The South Potomac Area Service Committee meets the first Saturday of each month at 6:00 PM: \nDavies Unitarian Universalist Church\n7400 Temple Hills Road\nCamp Springs\, MD 20748
URL:https://www.cprna.org/event/south-potomac-area-service-committee/2029-06-02/
LOCATION:Davies Unitarian Universalist Church\, 7400 Temple Hills Road\, Camp Springs\, MD\, 20748
CATEGORIES:NA Service
GEO:38.7880107;-76.9252019
X-APPLE-STRUCTURED-LOCATION;VALUE=URI;X-ADDRESS=Davies Unitarian Universalist Church 7400 Temple Hills Road Camp Springs MD 20748;X-APPLE-RADIUS=500;X-TITLE=7400 Temple Hills Road:geo:-76.9252019,38.7880107
END:VEVENT
BEGIN:VEVENT
DTSTART;TZID=America/New_York:20290707T180000
DTEND;TZID=America/New_York:20290707T200000
DTSTAMP:20260421T193223
CREATED:20241228T005732Z
LAST-MODIFIED:20250426T003922Z
UID:10001457-1878141600-1878148800@www.cprna.org
SUMMARY:South Potomac Area Service Committee
DESCRIPTION:The South Potomac Area Service Committee meets the first Saturday of each month at 6:00 PM: \nDavies Unitarian Universalist Church\n7400 Temple Hills Road\nCamp Springs\, MD 20748
URL:https://www.cprna.org/event/south-potomac-area-service-committee/2029-07-07/
LOCATION:Davies Unitarian Universalist Church\, 7400 Temple Hills Road\, Camp Springs\, MD\, 20748
CATEGORIES:NA Service
GEO:38.7880107;-76.9252019
X-APPLE-STRUCTURED-LOCATION;VALUE=URI;X-ADDRESS=Davies Unitarian Universalist Church 7400 Temple Hills Road Camp Springs MD 20748;X-APPLE-RADIUS=500;X-TITLE=7400 Temple Hills Road:geo:-76.9252019,38.7880107
END:VEVENT
BEGIN:VEVENT
DTSTART;TZID=America/New_York:20290804T180000
DTEND;TZID=America/New_York:20290804T200000
DTSTAMP:20260421T193223
CREATED:20241228T005732Z
LAST-MODIFIED:20250426T003922Z
UID:10001458-1880560800-1880568000@www.cprna.org
SUMMARY:South Potomac Area Service Committee
DESCRIPTION:The South Potomac Area Service Committee meets the first Saturday of each month at 6:00 PM: \nDavies Unitarian Universalist Church\n7400 Temple Hills Road\nCamp Springs\, MD 20748
URL:https://www.cprna.org/event/south-potomac-area-service-committee/2029-08-04/
LOCATION:Davies Unitarian Universalist Church\, 7400 Temple Hills Road\, Camp Springs\, MD\, 20748
CATEGORIES:NA Service
GEO:38.7880107;-76.9252019
X-APPLE-STRUCTURED-LOCATION;VALUE=URI;X-ADDRESS=Davies Unitarian Universalist Church 7400 Temple Hills Road Camp Springs MD 20748;X-APPLE-RADIUS=500;X-TITLE=7400 Temple Hills Road:geo:-76.9252019,38.7880107
END:VEVENT
BEGIN:VEVENT
DTSTART;TZID=America/New_York:20290901T180000
DTEND;TZID=America/New_York:20290901T200000
DTSTAMP:20260421T193223
CREATED:20241228T005732Z
LAST-MODIFIED:20250426T003922Z
UID:10001459-1882980000-1882987200@www.cprna.org
SUMMARY:South Potomac Area Service Committee
DESCRIPTION:The South Potomac Area Service Committee meets the first Saturday of each month at 6:00 PM: \nDavies Unitarian Universalist Church\n7400 Temple Hills Road\nCamp Springs\, MD 20748
URL:https://www.cprna.org/event/south-potomac-area-service-committee/2029-09-01/
LOCATION:Davies Unitarian Universalist Church\, 7400 Temple Hills Road\, Camp Springs\, MD\, 20748
CATEGORIES:NA Service
GEO:38.7880107;-76.9252019
X-APPLE-STRUCTURED-LOCATION;VALUE=URI;X-ADDRESS=Davies Unitarian Universalist Church 7400 Temple Hills Road Camp Springs MD 20748;X-APPLE-RADIUS=500;X-TITLE=7400 Temple Hills Road:geo:-76.9252019,38.7880107
END:VEVENT
BEGIN:VEVENT
DTSTART;TZID=America/New_York:20291006T180000
DTEND;TZID=America/New_York:20291006T200000
DTSTAMP:20260421T193223
CREATED:20241228T005732Z
LAST-MODIFIED:20250426T003922Z
UID:10001460-1886004000-1886011200@www.cprna.org
SUMMARY:South Potomac Area Service Committee
DESCRIPTION:The South Potomac Area Service Committee meets the first Saturday of each month at 6:00 PM: \nDavies Unitarian Universalist Church\n7400 Temple Hills Road\nCamp Springs\, MD 20748
URL:https://www.cprna.org/event/south-potomac-area-service-committee/2029-10-06/
LOCATION:Davies Unitarian Universalist Church\, 7400 Temple Hills Road\, Camp Springs\, MD\, 20748
CATEGORIES:NA Service
GEO:38.7880107;-76.9252019
X-APPLE-STRUCTURED-LOCATION;VALUE=URI;X-ADDRESS=Davies Unitarian Universalist Church 7400 Temple Hills Road Camp Springs MD 20748;X-APPLE-RADIUS=500;X-TITLE=7400 Temple Hills Road:geo:-76.9252019,38.7880107
END:VEVENT
BEGIN:VEVENT
DTSTART;TZID=America/New_York:20291103T180000
DTEND;TZID=America/New_York:20291103T200000
DTSTAMP:20260421T193223
CREATED:20241228T005732Z
LAST-MODIFIED:20250426T003922Z
UID:10001461-1888423200-1888430400@www.cprna.org
SUMMARY:South Potomac Area Service Committee
DESCRIPTION:The South Potomac Area Service Committee meets the first Saturday of each month at 6:00 PM: \nDavies Unitarian Universalist Church\n7400 Temple Hills Road\nCamp Springs\, MD 20748
URL:https://www.cprna.org/event/south-potomac-area-service-committee/2029-11-03/
LOCATION:Davies Unitarian Universalist Church\, 7400 Temple Hills Road\, Camp Springs\, MD\, 20748
CATEGORIES:NA Service
GEO:38.7880107;-76.9252019
X-APPLE-STRUCTURED-LOCATION;VALUE=URI;X-ADDRESS=Davies Unitarian Universalist Church 7400 Temple Hills Road Camp Springs MD 20748;X-APPLE-RADIUS=500;X-TITLE=7400 Temple Hills Road:geo:-76.9252019,38.7880107
END:VEVENT
BEGIN:VEVENT
DTSTART;TZID=America/New_York:20291201T180000
DTEND;TZID=America/New_York:20291201T200000
DTSTAMP:20260421T193223
CREATED:20241228T005732Z
LAST-MODIFIED:20250426T003922Z
UID:10001462-1890842400-1890849600@www.cprna.org
SUMMARY:South Potomac Area Service Committee
DESCRIPTION:The South Potomac Area Service Committee meets the first Saturday of each month at 6:00 PM: \nDavies Unitarian Universalist Church\n7400 Temple Hills Road\nCamp Springs\, MD 20748
URL:https://www.cprna.org/event/south-potomac-area-service-committee/2029-12-01/
LOCATION:Davies Unitarian Universalist Church\, 7400 Temple Hills Road\, Camp Springs\, MD\, 20748
CATEGORIES:NA Service
GEO:38.7880107;-76.9252019
X-APPLE-STRUCTURED-LOCATION;VALUE=URI;X-ADDRESS=Davies Unitarian Universalist Church 7400 Temple Hills Road Camp Springs MD 20748;X-APPLE-RADIUS=500;X-TITLE=7400 Temple Hills Road:geo:-76.9252019,38.7880107
END:VEVENT
BEGIN:VEVENT
DTSTART;TZID=America/New_York:20300105T180000
DTEND;TZID=America/New_York:20300105T200000
DTSTAMP:20260421T193223
CREATED:20241228T005732Z
LAST-MODIFIED:20250426T003922Z
UID:10001629-1893866400-1893873600@www.cprna.org
SUMMARY:South Potomac Area Service Committee
DESCRIPTION:The South Potomac Area Service Committee meets the first Saturday of each month at 6:00 PM: \nDavies Unitarian Universalist Church\n7400 Temple Hills Road\nCamp Springs\, MD 20748
URL:https://www.cprna.org/event/south-potomac-area-service-committee/2030-01-05/
LOCATION:Davies Unitarian Universalist Church\, 7400 Temple Hills Road\, Camp Springs\, MD\, 20748
CATEGORIES:NA Service
GEO:38.7880107;-76.9252019
X-APPLE-STRUCTURED-LOCATION;VALUE=URI;X-ADDRESS=Davies Unitarian Universalist Church 7400 Temple Hills Road Camp Springs MD 20748;X-APPLE-RADIUS=500;X-TITLE=7400 Temple Hills Road:geo:-76.9252019,38.7880107
END:VEVENT
BEGIN:VEVENT
DTSTART;TZID=America/New_York:20300202T180000
DTEND;TZID=America/New_York:20300202T200000
DTSTAMP:20260421T193223
CREATED:20241228T005732Z
LAST-MODIFIED:20250426T003922Z
UID:10001630-1896285600-1896292800@www.cprna.org
SUMMARY:South Potomac Area Service Committee
DESCRIPTION:The South Potomac Area Service Committee meets the first Saturday of each month at 6:00 PM: \nDavies Unitarian Universalist Church\n7400 Temple Hills Road\nCamp Springs\, MD 20748
URL:https://www.cprna.org/event/south-potomac-area-service-committee/2030-02-02/
LOCATION:Davies Unitarian Universalist Church\, 7400 Temple Hills Road\, Camp Springs\, MD\, 20748
CATEGORIES:NA Service
GEO:38.7880107;-76.9252019
X-APPLE-STRUCTURED-LOCATION;VALUE=URI;X-ADDRESS=Davies Unitarian Universalist Church 7400 Temple Hills Road Camp Springs MD 20748;X-APPLE-RADIUS=500;X-TITLE=7400 Temple Hills Road:geo:-76.9252019,38.7880107
END:VEVENT
BEGIN:VEVENT
DTSTART;TZID=America/New_York:20300302T180000
DTEND;TZID=America/New_York:20300302T200000
DTSTAMP:20260421T193223
CREATED:20241228T005732Z
LAST-MODIFIED:20250426T003922Z
UID:10001631-1898704800-1898712000@www.cprna.org
SUMMARY:South Potomac Area Service Committee
DESCRIPTION:The South Potomac Area Service Committee meets the first Saturday of each month at 6:00 PM: \nDavies Unitarian Universalist Church\n7400 Temple Hills Road\nCamp Springs\, MD 20748
URL:https://www.cprna.org/event/south-potomac-area-service-committee/2030-03-02/
LOCATION:Davies Unitarian Universalist Church\, 7400 Temple Hills Road\, Camp Springs\, MD\, 20748
CATEGORIES:NA Service
GEO:38.7880107;-76.9252019
X-APPLE-STRUCTURED-LOCATION;VALUE=URI;X-ADDRESS=Davies Unitarian Universalist Church 7400 Temple Hills Road Camp Springs MD 20748;X-APPLE-RADIUS=500;X-TITLE=7400 Temple Hills Road:geo:-76.9252019,38.7880107
END:VEVENT
BEGIN:VEVENT
DTSTART;TZID=America/New_York:20300406T180000
DTEND;TZID=America/New_York:20300406T200000
DTSTAMP:20260421T193223
CREATED:20241228T005732Z
LAST-MODIFIED:20250426T003922Z
UID:10001632-1901728800-1901736000@www.cprna.org
SUMMARY:South Potomac Area Service Committee
DESCRIPTION:The South Potomac Area Service Committee meets the first Saturday of each month at 6:00 PM: \nDavies Unitarian Universalist Church\n7400 Temple Hills Road\nCamp Springs\, MD 20748
URL:https://www.cprna.org/event/south-potomac-area-service-committee/2030-04-06/
LOCATION:Davies Unitarian Universalist Church\, 7400 Temple Hills Road\, Camp Springs\, MD\, 20748
CATEGORIES:NA Service
GEO:38.7880107;-76.9252019
X-APPLE-STRUCTURED-LOCATION;VALUE=URI;X-ADDRESS=Davies Unitarian Universalist Church 7400 Temple Hills Road Camp Springs MD 20748;X-APPLE-RADIUS=500;X-TITLE=7400 Temple Hills Road:geo:-76.9252019,38.7880107
END:VEVENT
BEGIN:VEVENT
DTSTART;TZID=America/New_York:20300504T180000
DTEND;TZID=America/New_York:20300504T200000
DTSTAMP:20260421T193223
CREATED:20241228T005732Z
LAST-MODIFIED:20250426T003922Z
UID:10002338-1904148000-1904155200@www.cprna.org
SUMMARY:South Potomac Area Service Committee
DESCRIPTION:The South Potomac Area Service Committee meets the first Saturday of each month at 6:00 PM: \nDavies Unitarian Universalist Church\n7400 Temple Hills Road\nCamp Springs\, MD 20748
URL:https://www.cprna.org/event/south-potomac-area-service-committee/2030-05-04/
LOCATION:Davies Unitarian Universalist Church\, 7400 Temple Hills Road\, Camp Springs\, MD\, 20748
CATEGORIES:NA Service
GEO:38.7880107;-76.9252019
X-APPLE-STRUCTURED-LOCATION;VALUE=URI;X-ADDRESS=Davies Unitarian Universalist Church 7400 Temple Hills Road Camp Springs MD 20748;X-APPLE-RADIUS=500;X-TITLE=7400 Temple Hills Road:geo:-76.9252019,38.7880107
END:VEVENT
BEGIN:VEVENT
DTSTART;TZID=America/New_York:20300601T180000
DTEND;TZID=America/New_York:20300601T200000
DTSTAMP:20260421T193223
CREATED:20241228T005732Z
LAST-MODIFIED:20250426T003922Z
UID:10002339-1906567200-1906574400@www.cprna.org
SUMMARY:South Potomac Area Service Committee
DESCRIPTION:The South Potomac Area Service Committee meets the first Saturday of each month at 6:00 PM: \nDavies Unitarian Universalist Church\n7400 Temple Hills Road\nCamp Springs\, MD 20748
URL:https://www.cprna.org/event/south-potomac-area-service-committee/2030-06-01/
LOCATION:Davies Unitarian Universalist Church\, 7400 Temple Hills Road\, Camp Springs\, MD\, 20748
CATEGORIES:NA Service
GEO:38.7880107;-76.9252019
X-APPLE-STRUCTURED-LOCATION;VALUE=URI;X-ADDRESS=Davies Unitarian Universalist Church 7400 Temple Hills Road Camp Springs MD 20748;X-APPLE-RADIUS=500;X-TITLE=7400 Temple Hills Road:geo:-76.9252019,38.7880107
END:VEVENT
BEGIN:VEVENT
DTSTART;TZID=America/New_York:20300706T180000
DTEND;TZID=America/New_York:20300706T200000
DTSTAMP:20260421T193223
CREATED:20241228T005732Z
LAST-MODIFIED:20250426T003922Z
UID:10002340-1909591200-1909598400@www.cprna.org
SUMMARY:South Potomac Area Service Committee
DESCRIPTION:The South Potomac Area Service Committee meets the first Saturday of each month at 6:00 PM: \nDavies Unitarian Universalist Church\n7400 Temple Hills Road\nCamp Springs\, MD 20748
URL:https://www.cprna.org/event/south-potomac-area-service-committee/2030-07-06/
LOCATION:Davies Unitarian Universalist Church\, 7400 Temple Hills Road\, Camp Springs\, MD\, 20748
CATEGORIES:NA Service
GEO:38.7880107;-76.9252019
X-APPLE-STRUCTURED-LOCATION;VALUE=URI;X-ADDRESS=Davies Unitarian Universalist Church 7400 Temple Hills Road Camp Springs MD 20748;X-APPLE-RADIUS=500;X-TITLE=7400 Temple Hills Road:geo:-76.9252019,38.7880107
END:VEVENT
BEGIN:VEVENT
DTSTART;TZID=America/New_York:20300803T180000
DTEND;TZID=America/New_York:20300803T200000
DTSTAMP:20260421T193223
CREATED:20241228T005732Z
LAST-MODIFIED:20250426T003922Z
UID:10002341-1912010400-1912017600@www.cprna.org
SUMMARY:South Potomac Area Service Committee
DESCRIPTION:The South Potomac Area Service Committee meets the first Saturday of each month at 6:00 PM: \nDavies Unitarian Universalist Church\n7400 Temple Hills Road\nCamp Springs\, MD 20748
URL:https://www.cprna.org/event/south-potomac-area-service-committee/2030-08-03/
LOCATION:Davies Unitarian Universalist Church\, 7400 Temple Hills Road\, Camp Springs\, MD\, 20748
CATEGORIES:NA Service
GEO:38.7880107;-76.9252019
X-APPLE-STRUCTURED-LOCATION;VALUE=URI;X-ADDRESS=Davies Unitarian Universalist Church 7400 Temple Hills Road Camp Springs MD 20748;X-APPLE-RADIUS=500;X-TITLE=7400 Temple Hills Road:geo:-76.9252019,38.7880107
END:VEVENT
BEGIN:VEVENT
DTSTART;TZID=America/New_York:20300907T180000
DTEND;TZID=America/New_York:20300907T200000
DTSTAMP:20260421T193223
CREATED:20241228T005732Z
LAST-MODIFIED:20250426T003922Z
UID:10002342-1915034400-1915041600@www.cprna.org
SUMMARY:South Potomac Area Service Committee
DESCRIPTION:The South Potomac Area Service Committee meets the first Saturday of each month at 6:00 PM: \nDavies Unitarian Universalist Church\n7400 Temple Hills Road\nCamp Springs\, MD 20748
URL:https://www.cprna.org/event/south-potomac-area-service-committee/2030-09-07/
LOCATION:Davies Unitarian Universalist Church\, 7400 Temple Hills Road\, Camp Springs\, MD\, 20748
CATEGORIES:NA Service
GEO:38.7880107;-76.9252019
X-APPLE-STRUCTURED-LOCATION;VALUE=URI;X-ADDRESS=Davies Unitarian Universalist Church 7400 Temple Hills Road Camp Springs MD 20748;X-APPLE-RADIUS=500;X-TITLE=7400 Temple Hills Road:geo:-76.9252019,38.7880107
END:VEVENT
BEGIN:VEVENT
DTSTART;TZID=America/New_York:20301005T180000
DTEND;TZID=America/New_York:20301005T200000
DTSTAMP:20260421T193223
CREATED:20241228T005732Z
LAST-MODIFIED:20250426T003922Z
UID:10002370-1917453600-1917460800@www.cprna.org
SUMMARY:South Potomac Area Service Committee
DESCRIPTION:The South Potomac Area Service Committee meets the first Saturday of each month at 6:00 PM: \nDavies Unitarian Universalist Church\n7400 Temple Hills Road\nCamp Springs\, MD 20748
URL:https://www.cprna.org/event/south-potomac-area-service-committee/2030-10-05/
LOCATION:Davies Unitarian Universalist Church\, 7400 Temple Hills Road\, Camp Springs\, MD\, 20748
CATEGORIES:NA Service
GEO:38.7880107;-76.9252019
X-APPLE-STRUCTURED-LOCATION;VALUE=URI;X-ADDRESS=Davies Unitarian Universalist Church 7400 Temple Hills Road Camp Springs MD 20748;X-APPLE-RADIUS=500;X-TITLE=7400 Temple Hills Road:geo:-76.9252019,38.7880107
END:VEVENT
END:VCALENDAR