BEGIN:VCALENDAR
VERSION:2.0
PRODID:-//Chesapeake &amp; Potomac Region of Narcotics Anonymous - ECPv6.15.18//NONSGML v1.0//EN
CALSCALE:GREGORIAN
METHOD:PUBLISH
X-ORIGINAL-URL:https://www.cprna.org
X-WR-CALDESC:Events for Chesapeake &amp; Potomac Region of Narcotics Anonymous
REFRESH-INTERVAL;VALUE=DURATION:PT1H
X-Robots-Tag:noindex
X-PUBLISHED-TTL:PT1H
BEGIN:VTIMEZONE
TZID:America/New_York
BEGIN:DAYLIGHT
TZOFFSETFROM:-0500
TZOFFSETTO:-0400
TZNAME:EDT
DTSTART:20250309T070000
END:DAYLIGHT
BEGIN:STANDARD
TZOFFSETFROM:-0400
TZOFFSETTO:-0500
TZNAME:EST
DTSTART:20251102T060000
END:STANDARD
BEGIN:DAYLIGHT
TZOFFSETFROM:-0500
TZOFFSETTO:-0400
TZNAME:EDT
DTSTART:20260308T070000
END:DAYLIGHT
BEGIN:STANDARD
TZOFFSETFROM:-0400
TZOFFSETTO:-0500
TZNAME:EST
DTSTART:20261101T060000
END:STANDARD
BEGIN:DAYLIGHT
TZOFFSETFROM:-0500
TZOFFSETTO:-0400
TZNAME:EDT
DTSTART:20270314T070000
END:DAYLIGHT
BEGIN:STANDARD
TZOFFSETFROM:-0400
TZOFFSETTO:-0500
TZNAME:EST
DTSTART:20271107T060000
END:STANDARD
END:VTIMEZONE
BEGIN:VEVENT
DTSTART;VALUE=DATE:20260501
DTEND;VALUE=DATE:20260502
DTSTAMP:20260425T105603
CREATED:20260421T014033Z
LAST-MODIFIED:20260421T014033Z
UID:10003678-1777593600-1777679999@www.cprna.org
SUMMARY:CPRCNA 40 Subcommittee Meetings
DESCRIPTION:Get involved\, stay involved! \nHere is a list of the CPRCNA 40’s Subcommittees: \nPrintable Flyer \n 
URL:https://www.cprna.org/event/cprcna-40-subcommittees/2026-05-01/
CATEGORIES:Convention,NA Service
ATTACH;FMTTYPE=image/png:https://www.cprna.org/wp-content/uploads/2026/04/2026-04-20-cprcna40-subcommittees-e1776734913758.png
END:VEVENT
END:VCALENDAR